BEGIN:VCALENDAR
VERSION:2.0
PRODID:SchoolNow
CALSCALE:GREGORIAN
BEGIN:VEVENT
UID:1ba32eee-96e2-11ef-83b5-0a58a9feac02
DTSTAMP:20241030T171214Z
SUMMARY:Chili Cookoff
URL;VALUE=URI:https://www.albanyschools.org/calendar/6928531/chili-cookoff
DTSTART:20241115T210000Z
DTEND:20241115T230000Z
END:VEVENT
END:VCALENDAR
