BEGIN:VCALENDAR
VERSION:2.0
PRODID:SchoolNow
CALSCALE:GREGORIAN
BEGIN:VEVENT
UID:ad80936c-8cf3-11f0-86d6-0a58a9feac02
DTSTAMP:20250908T203746Z
SUMMARY:Albany Booster Club Falcon 5K and Fun Run
LOCATION:Washington Park\, Albany
URL;VALUE=URI:https://www.albanyschools.org/calendar/8596193/falcon-5k-clon
 e
DTSTART:20241006T120000Z
DTEND:20241006T150000Z
END:VEVENT
END:VCALENDAR
