BEGIN:VCALENDAR
VERSION:2.0
PRODID:SchoolNow
CALSCALE:GREGORIAN
BEGIN:VEVENT
UID:6d5960ec-bb1b-11f0-a69f-0e56e2a97179
DTSTAMP:20251106T142543Z
SUMMARY:Special Education Parent Advisory Committee (11/13)
URL;VALUE=URI:https://www.albanyschools.org/calendar/8780918/special-educat
 ion-parent-advisory-committee-11-13
DTSTART:20251113T233000Z
DTEND:20251114T004500Z
END:VEVENT
END:VCALENDAR
