BEGIN:VCALENDAR
VERSION:2.0
PRODID:SchoolNow
CALSCALE:GREGORIAN
BEGIN:VEVENT
UID:5332109a-3ce6-11f1-a202-0a58a9feac02
DTSTAMP:20260420T182556Z
SUMMARY:Budget Forum (4/27)
LOCATION:Albany High | 700 Washington Ave.
URL;VALUE=URI:https://www.albanyschools.org/calendar/9007469/budget-forum-4
 -27
DTSTART:20260427T220000Z
DTEND:20260427T230000Z
END:VEVENT
END:VCALENDAR
