BEGIN:VCALENDAR
VERSION:2.0
PRODID:SchoolNow
CALSCALE:GREGORIAN
BEGIN:VEVENT
UID:c6cff238-3ce6-11f1-b5e5-0a58a9feac02
DTSTAMP:20260420T182850Z
SUMMARY:Budget Presentation: Melrose Neighborhood Association
LOCATION:Montessori Magnet School | 45 Tremont St.
URL;VALUE=URI:https://www.albanyschools.org/calendar/9007475/budget-present
 ation-melrose-neighborhood-association
DTSTART:20260421T230000Z
DTEND:20260422T000000Z
END:VEVENT
END:VCALENDAR
