BEGIN:VCALENDAR
VERSION:2.0
PRODID:SchoolNow
CALSCALE:GREGORIAN
BEGIN:VEVENT
UID:f1e9629c-3ce6-11f1-a3c5-0a58a9feac02
DTSTAMP:20260420T183002Z
SUMMARY:Budget Presentation: Albany NAACP (virtual)
URL;VALUE=URI:https://www.albanyschools.org/calendar/9007478/budget-present
 ation-albany-naacp-virtual
DTSTART:20260423T223000Z
DTEND:20260423T233000Z
END:VEVENT
END:VCALENDAR
