BEGIN:VCALENDAR
VERSION:2.0
PRODID:SchoolNow
CALSCALE:GREGORIAN
BEGIN:VEVENT
UID:2c711538-3cef-11f1-bc10-0a58a9feac02
DTSTAMP:20260420T192856Z
SUMMARY:Budget Presentation: Albany Common Council
LOCATION:Albany City Hall | 24 Eagle St.
URL;VALUE=URI:https://www.albanyschools.org/calendar/9007510/budget-present
 ation-albany-common-council
DTSTART:20260429T213000Z
DTEND:20260429T223000Z
END:VEVENT
END:VCALENDAR
