BEGIN:VCALENDAR
VERSION:2.0
PRODID:SchoolNow
CALSCALE:GREGORIAN
BEGIN:VEVENT
UID:030f8544-be07-11e9-b946-0a1f5f0d2de0
DTSTAMP:20190826T145337Z
SUMMARY:Early Childhood Parent University: Family Engagement Series
URL;VALUE=URI:https://www.albanyschools.org/communityengagement/parent-univ
 ersity/calendar/2062539/early-childhood-parent-university-family-engagemen
 t-series
DTSTART:20191016T210000Z
DTEND:20191016T230000Z
END:VEVENT
END:VCALENDAR
