BEGIN:VCALENDAR
VERSION:2.0
PRODID:SchoolNow
CALSCALE:GREGORIAN
BEGIN:VEVENT
UID:031213fe-be07-11e9-915e-0a1f5f0d2de0
DTSTAMP:20190826T150450Z
SUMMARY:Early Childhood Parent University: Family Engagement Series
URL;VALUE=URI:https://www.albanyschools.org/communityengagement/parent-univ
 ersity/calendar/2062628/early-childhood-parent-university-family-engagemen
 t-series
DTSTART:20191113T220000Z
DTEND:20191114T000000Z
END:VEVENT
END:VCALENDAR
