BEGIN:VCALENDAR
VERSION:2.0
PRODID:SchoolNow
CALSCALE:GREGORIAN
BEGIN:VEVENT
UID:539c1576-c024-11e9-bc78-12591473a5f8
DTSTAMP:20190926T193502Z
SUMMARY:Parent University: An Introduction
LOCATION:Myers Middle School
URL;VALUE=URI:https://www.albanyschools.org/communityengagement/parent-univ
 ersity/calendar/2067157/parent-university-at-myers
DTSTART:20190925T213000Z
DTEND:20190925T230000Z
END:VEVENT
END:VCALENDAR
