BEGIN:VCALENDAR
VERSION:2.0
PRODID:SchoolNow
CALSCALE:GREGORIAN
BEGIN:VEVENT
UID:3fd7fe38-cf29-11e9-a631-0a30a03e280e
DTSTAMP:20190926T190920Z
SUMMARY:Parent University: Bullying and Cyberbullying
LOCATION:Hackett Middle School
URL;VALUE=URI:https://www.albanyschools.org/communityengagement/parent-univ
 ersity/calendar/2081431/parent-university
DTSTART:20191002T213000Z
DTEND:20191002T230000Z
END:VEVENT
END:VCALENDAR
