BEGIN:VCALENDAR
VERSION:2.0
PRODID:SchoolNow
CALSCALE:GREGORIAN
BEGIN:VEVENT
UID:5b335880-cf29-11e9-ad91-0a30a03e280e
DTSTAMP:20190926T190948Z
SUMMARY:Parent University: Bullying and Cyberbullying
LOCATION:O'Neal Middle School
URL;VALUE=URI:https://www.albanyschools.org/communityengagement/parent-univ
 ersity/calendar/2081432/parent-university
DTSTART:20191023T213000Z
DTEND:20191023T230000Z
END:VEVENT
END:VCALENDAR
