BEGIN:VCALENDAR
VERSION:2.0
PRODID:SchoolNow
CALSCALE:GREGORIAN
BEGIN:VEVENT
UID:20ba8450-cf2c-11e9-97fe-1256990202d0
DTSTAMP:20191030T183948Z
SUMMARY:Parent University: Active Shooters and Trauma Informed Care
LOCATION:O'Neal Middle School
URL;VALUE=URI:https://www.albanyschools.org/communityengagement/parent-univ
 ersity/calendar/2081440/parent-university
DTSTART:20191113T223000Z
DTEND:20191114T000000Z
ATTACH;FILENAME=O'Neal Nov 2019 flyer.pdf;FMTTYPE=application/pdf:https://c
 ampussuite-storage.s3.amazonaws.com/prod/1558712/d5d32b58-674e-11e9-aaaf-0
 a6d339d5cd0/2006803/51bb78cc-fb44-11e9-ac3f-0a84825ac669/file/O'Neal Nov 2
 019 flyer.pdf
END:VEVENT
END:VCALENDAR
