BEGIN:VCALENDAR
VERSION:2.0
PRODID:SchoolNow
CALSCALE:GREGORIAN
BEGIN:VEVENT
UID:585fcd20-cf2c-11e9-86c0-1256990202d0
DTSTAMP:20191030T184017Z
SUMMARY:Parent University: Active Shooters and Trauma Informed Care
DESCRIPTION:Myers Middle School
LOCATION:Stephen and Harriet Myers Middle School
URL;VALUE=URI:https://www.albanyschools.org/communityengagement/parent-univ
 ersity/calendar/2081442/parent-university-at-myers
DTSTART:20191119T223000Z
DTEND:20191120T000000Z
ATTACH;FILENAME=Myers Nov 2019 flyer.pdf;FMTTYPE=application/pdf:https://ca
 mpussuite-storage.s3.amazonaws.com/prod/1558712/d5d32b58-674e-11e9-aaaf-0a
 6d339d5cd0/2006804/51bb7a98-fb44-11e9-80c3-0a84825ac669/file/Myers Nov 201
 9 flyer.pdf
END:VEVENT
END:VCALENDAR
