BEGIN:VCALENDAR
VERSION:2.0
PRODID:SchoolNow
CALSCALE:GREGORIAN
BEGIN:VEVENT
UID:e1801908-f4ce-11e9-903f-0a65cd733535
DTSTAMP:20191022T132139Z
SUMMARY:Parent University: Bullying and Cyberbullying
LOCATION:North Albany Middle School
URL;VALUE=URI:https://www.albanyschools.org/communityengagement/parent-univ
 ersity/calendar/2126444/parent-university-bullying-and-cyberbullying
DTSTART:20191030T213000Z
DTEND:20191030T230000Z
END:VEVENT
END:VCALENDAR
