BEGIN:VCALENDAR
VERSION:2.0
PRODID:SchoolNow
CALSCALE:GREGORIAN
BEGIN:VEVENT
UID:20d4004c-9538-11ef-9a0f-0a58a9feac02
DTSTAMP:20241107T202550Z
SUMMARY:Parent University: Social Media and Your Child's Digital Footprint
LOCATION:Hackett Middle School\, 45 Delaware Ave.
URL;VALUE=URI:https://www.albanyschools.org/communityengagement/parent-univ
 ersity/calendar/6913105/parent-university-social-media-and-your-childs-dig
 ital-footprint
DTSTART:20241115T000000Z
DTEND:20241115T010000Z
END:VEVENT
END:VCALENDAR
