BEGIN:VCALENDAR
VERSION:2.0
PRODID:SchoolNow
CALSCALE:GREGORIAN
BEGIN:VEVENT
UID:7cfa9804-9538-11ef-99b8-0a58a9feac02
DTSTAMP:20250103T171408Z
SUMMARY:Parent University: Community Violence Outside the School Day
LOCATION:Albany High School\, 700 Washington Ave.
URL;VALUE=URI:https://www.albanyschools.org/communityengagement/parent-univ
 ersity/calendar/6913110/parent-university-community-violence-outside-the-s
 chool-day
DTSTART:20250116T000000Z
DTEND:20250116T010000Z
END:VEVENT
END:VCALENDAR
