BEGIN:VCALENDAR
VERSION:2.0
PRODID:SchoolNow
CALSCALE:GREGORIAN
BEGIN:VEVENT
UID:62c1c6e2-647d-11ef-b6f2-02acf6101bbb
DTSTAMP:20240827T140516Z
SUMMARY:SECONDARY MARKING PERIOD (3/7)
URL;VALUE=URI:https://www.albanyschools.org/schools/aic/calendar/6467164/se
 condary-marking-period-3-7
DTSTART;VALUE=DATE:20250307
DTEND;VALUE=DATE:20250308
END:VEVENT
END:VCALENDAR
