BEGIN:VCALENDAR
VERSION:2.0
PRODID:SchoolNow
CALSCALE:GREGORIAN
BEGIN:VEVENT
UID:9d21db84-7c37-11ef-a42f-0a58a9feac02
DTSTAMP:20240926T184617Z
SUMMARY:PTA meeting
LOCATION:library
URL;VALUE=URI:https://www.albanyschools.org/schools/aic/calendar/6696516/pt
 a-meeting
DTSTART:20250224T230000Z
DTEND:20250225T000000Z
END:VEVENT
END:VCALENDAR
