BEGIN:VCALENDAR
VERSION:2.0
PRODID:SchoolNow
CALSCALE:GREGORIAN
BEGIN:VEVENT
UID:ed5591ae-7c37-11ef-a759-0a58a9feac02
DTSTAMP:20240926T184831Z
SUMMARY:PTA meeting
LOCATION:library
URL;VALUE=URI:https://www.albanyschools.org/schools/aic/calendar/6696518/pt
 a-meeting
DTSTART:20250421T220000Z
DTEND:20250421T230000Z
END:VEVENT
END:VCALENDAR
