BEGIN:VCALENDAR
VERSION:2.0
PRODID:SchoolNow
CALSCALE:GREGORIAN
BEGIN:VEVENT
UID:83080f36-953a-11ef-88ac-0affd4efd7f1
DTSTAMP:20250317T142721Z
SUMMARY:Parent University: Sex Education in New York
LOCATION:North Albany Middle School\, 570 North Pearl St.
URL;VALUE=URI:https://www.albanyschools.org/schools/aic/calendar/6914631/pa
 rent-university-sex-education-in-new-york
DTSTART:20250325T230000Z
DTEND:20250326T000000Z
END:VEVENT
END:VCALENDAR
