BEGIN:VCALENDAR
VERSION:2.0
PRODID:SchoolNow
CALSCALE:GREGORIAN
BEGIN:VEVENT
UID:578d554e-bbb6-11ef-83b4-0a58a9feac02
DTSTAMP:20241216T140209Z
SUMMARY:PTA family movie night
URL;VALUE=URI:https://www.albanyschools.org/schools/aic/calendar/7180698/pt
 a-family-movie-night
DTSTART:20250306T230000Z
DTEND:20250307T000000Z
END:VEVENT
END:VCALENDAR
