BEGIN:VCALENDAR
VERSION:2.0
PRODID:SchoolNow
CALSCALE:GREGORIAN
BEGIN:VEVENT
UID:e6a648a0-001f-11f0-b03c-02e85c19b023
DTSTAMP:20250313T152951Z
SUMMARY:NYS English Language Arts exam\, grades 6-8
URL;VALUE=URI:https://www.albanyschools.org/schools/aic/calendar/7674339/ny
 s-english-language-arts-test-grades-6-8
DTSTART;VALUE=DATE:20250408
DTEND;VALUE=DATE:20250410
END:VEVENT
END:VCALENDAR
