BEGIN:VCALENDAR
VERSION:2.0
PRODID:SchoolNow
CALSCALE:GREGORIAN
BEGIN:VEVENT
UID:1dd97ca2-0020-11f0-ae3c-0ea28ac59b2d
DTSTAMP:20250313T153038Z
SUMMARY:NYS Math exam\, grades 3-8
URL;VALUE=URI:https://www.albanyschools.org/schools/aic/calendar/7674341/ny
 s-math-exam-grades-3-8
DTSTART;VALUE=DATE:20250429
DTEND;VALUE=DATE:20250501
END:VEVENT
END:VCALENDAR
