BEGIN:VCALENDAR
VERSION:2.0
PRODID:SchoolNow
CALSCALE:GREGORIAN
BEGIN:VEVENT
UID:54781430-0020-11f0-a592-0affcc68f851
DTSTAMP:20250313T153210Z
SUMMARY:NYS Science exam\, grade 5
URL;VALUE=URI:https://www.albanyschools.org/schools/aic/calendar/7674343/ny
 s-science-exam-grade-5
DTSTART;VALUE=DATE:20250513
DTEND;VALUE=DATE:20250514
END:VEVENT
END:VCALENDAR
