BEGIN:VCALENDAR
VERSION:2.0
PRODID:SchoolNow
CALSCALE:GREGORIAN
BEGIN:VEVENT
UID:80cd0210-0fe9-11f0-8121-0a58a9feac02
DTSTAMP:20250402T174001Z
SUMMARY:Spirit Week
URL;VALUE=URI:https://www.albanyschools.org/schools/aic/calendar/7833374/sp
 irit-week
DTSTART;VALUE=DATE:20250407
DTEND;VALUE=DATE:20250412
END:VEVENT
END:VCALENDAR
