BEGIN:VCALENDAR
VERSION:2.0
PRODID:SchoolNow
CALSCALE:GREGORIAN
BEGIN:VEVENT
UID:af261aee-2c0d-11f0-9184-0a58a9feac02
DTSTAMP:20250508T130933Z
SUMMARY:PTA meeting
LOCATION:Library
URL;VALUE=URI:https://www.albanyschools.org/schools/aic/calendar/8090454/pt
 a-meeting
DTSTART:20250522T220000Z
DTEND:20250522T230000Z
END:VEVENT
END:VCALENDAR
