BEGIN:VCALENDAR
VERSION:2.0
PRODID:SchoolNow
CALSCALE:GREGORIAN
BEGIN:VEVENT
UID:beb214f0-3d7d-11f0-a242-0ebf031402d3
DTSTAMP:20250530T174446Z
SUMMARY:Middle school field day
URL;VALUE=URI:https://www.albanyschools.org/schools/aic/calendar/8226161/mi
 ddle-school-field-day
DTSTART;VALUE=DATE:20250616
DTEND;VALUE=DATE:20250617
END:VEVENT
END:VCALENDAR
