BEGIN:VCALENDAR
VERSION:2.0
PRODID:SchoolNow
CALSCALE:GREGORIAN
BEGIN:VEVENT
UID:ec0a9026-3d7d-11f0-9163-02181c83b4fb
DTSTAMP:20250530T174609Z
SUMMARY:Pre-K Moving-Up Ceremony
URL;VALUE=URI:https://www.albanyschools.org/schools/aic/calendar/8226163/pr
 e-k-moving-up-ceremony
DTSTART:20250620T140000Z
DTEND:20250620T150000Z
END:VEVENT
END:VCALENDAR
