BEGIN:VCALENDAR
VERSION:2.0
PRODID:SchoolNow
CALSCALE:GREGORIAN
BEGIN:VEVENT
UID:2578d728-3d7e-11f0-bfc3-0a58a9feac02
DTSTAMP:20250530T174736Z
SUMMARY:Kindergarten Moving-Up Ceremony
URL;VALUE=URI:https://www.albanyschools.org/schools/aic/calendar/8226165/ki
 ndergarten-moving-up-ceremony
DTSTART:20250625T140000Z
DTEND:20250625T150000Z
END:VEVENT
END:VCALENDAR
