BEGIN:VCALENDAR
VERSION:2.0
PRODID:SchoolNow
CALSCALE:GREGORIAN
BEGIN:VEVENT
UID:6f72d342-3d7e-11f0-be44-0a58a9feac02
DTSTAMP:20250530T174929Z
SUMMARY:Grade 5 Moving-Up Ceremony
URL;VALUE=URI:https://www.albanyschools.org/schools/aic/calendar/8226167/gr
 ade-5-moving-up-ceremony
DTSTART:20250626T140000Z
DTEND:20250626T150000Z
END:VEVENT
END:VCALENDAR
