BEGIN:VCALENDAR
VERSION:2.0
PRODID:SchoolNow
CALSCALE:GREGORIAN
BEGIN:VEVENT
UID:8e978b0a-56b5-11f0-a244-0a58a9feac02
DTSTAMP:20250801T150051Z
SUMMARY:ATHLETICS: high school fall sports begin
URL;VALUE=URI:https://www.albanyschools.org/schools/aic/calendar/8374836/at
 hletics-high-school-fall-sports-begin
DTSTART;VALUE=DATE:20250818
DTEND;VALUE=DATE:20250819
END:VEVENT
END:VCALENDAR
