BEGIN:VCALENDAR
VERSION:2.0
PRODID:SchoolNow
CALSCALE:GREGORIAN
BEGIN:VEVENT
UID:1c3808f6-6979-11f0-a958-0affdc5ee261
DTSTAMP:20250725T170213Z
SUMMARY:Back-to-school picnic
URL;VALUE=URI:https://www.albanyschools.org/schools/aic/calendar/8445829/ba
 ck-to-school-picnic
DTSTART:20250902T203000Z
DTEND:20250902T223000Z
END:VEVENT
END:VCALENDAR
