BEGIN:VCALENDAR
VERSION:2.0
PRODID:SchoolNow
CALSCALE:GREGORIAN
BEGIN:VEVENT
UID:6c3c86c6-6e45-11f0-a302-0a58a9feac02
DTSTAMP:20250801T150122Z
SUMMARY:ATHLETICS: registration begins for modified winter sports
URL;VALUE=URI:https://www.albanyschools.org/schools/aic/calendar/8461537/at
 hletics-registration-begins-for-modified-winter-sports
DTSTART;VALUE=DATE:20251024
DTEND;VALUE=DATE:20251025
END:VEVENT
END:VCALENDAR
