BEGIN:VCALENDAR
VERSION:2.0
PRODID:SchoolNow
CALSCALE:GREGORIAN
BEGIN:VEVENT
UID:a87af46a-6e45-11f0-a746-0a58a9feac02
DTSTAMP:20251107T214855Z
SUMMARY:ATHLETICS: high school winter sports begin
URL;VALUE=URI:https://www.albanyschools.org/schools/aic/calendar/8461546/at
 hletics-high-school-winter-sports-begin
DTSTART;VALUE=DATE:20251117
DTEND;VALUE=DATE:20251118
END:VEVENT
END:VCALENDAR
