BEGIN:VCALENDAR
VERSION:2.0
PRODID:SchoolNow
CALSCALE:GREGORIAN
BEGIN:VEVENT
UID:dbc3e8bc-6eeb-11f0-bd38-0affe48c7e35
DTSTAMP:20260227T185327Z
SUMMARY:ATHLETICS: high school spring sports begin
URL;VALUE=URI:https://www.albanyschools.org/schools/aic/calendar/8463428/at
 hletics-high-school-spring-sports-begin
DTSTART;VALUE=DATE:20260309
DTEND;VALUE=DATE:20260310
END:VEVENT
END:VCALENDAR
