BEGIN:VCALENDAR
VERSION:2.0
PRODID:SchoolNow
CALSCALE:GREGORIAN
BEGIN:VEVENT
UID:b8d2ac8a-6ef0-11f0-ab2d-0ed31cca5a63
DTSTAMP:20260414T172721Z
SUMMARY:ATHLETICS: high school football begins
URL;VALUE=URI:https://www.albanyschools.org/schools/aic/calendar/8463902/at
 hletics-high-school-football-begins
DTSTART;VALUE=DATE:20260817
DTEND;VALUE=DATE:20260818
END:VEVENT
END:VCALENDAR
