BEGIN:VCALENDAR
VERSION:2.0
PRODID:SchoolNow
CALSCALE:GREGORIAN
BEGIN:VEVENT
UID:d47a6fb8-6ef0-11f0-b0d9-0a58a9feac02
DTSTAMP:20260414T172730Z
SUMMARY:ATHLETICS: high school fall sports begin
URL;VALUE=URI:https://www.albanyschools.org/schools/aic/calendar/8463907/at
 hletics-high-school-fall-sports-begin
DTSTART;VALUE=DATE:20260824
DTEND;VALUE=DATE:20260825
END:VEVENT
END:VCALENDAR
