BEGIN:VCALENDAR
VERSION:2.0
PRODID:SchoolNow
CALSCALE:GREGORIAN
BEGIN:VEVENT
UID:cac6b7d6-7c4e-11f0-a0f2-0a58a9feac02
DTSTAMP:20250818T162548Z
SUMMARY:First day of school: New students in grades 6-12 ONLY
URL;VALUE=URI:https://www.albanyschools.org/schools/aic/calendar/8518824/fi
 rst-day-of-school-new-students-in-grades-6-12-only
DTSTART:20250904T161300Z
DTEND:20250904T171300Z
END:VEVENT
END:VCALENDAR
