BEGIN:VCALENDAR
VERSION:2.0
PRODID:SchoolNow
CALSCALE:GREGORIAN
BEGIN:VEVENT
UID:50bbdc72-7c4f-11f0-a207-0a58a9feac02
DTSTAMP:20250818T162054Z
SUMMARY:First day of school: Kindergarten-grade 5
URL;VALUE=URI:https://www.albanyschools.org/schools/aic/calendar/8518829/fi
 rst-day-of-school-kindergarten-grade-5
DTSTART:20250904T161800Z
DTEND:20250904T171800Z
END:VEVENT
END:VCALENDAR
