BEGIN:VCALENDAR
VERSION:2.0
PRODID:SchoolNow
CALSCALE:GREGORIAN
BEGIN:VEVENT
UID:8bd9a33e-7c4f-11f0-baf5-0e8b14fcf377
DTSTAMP:20250818T162233Z
SUMMARY:ALL STUDENTS back to school
URL;VALUE=URI:https://www.albanyschools.org/schools/aic/calendar/8518833/al
 l-students-back-to-school
DTSTART:20250905T162100Z
DTEND:20250905T172100Z
END:VEVENT
END:VCALENDAR
