BEGIN:VCALENDAR
VERSION:2.0
PRODID:SchoolNow
CALSCALE:GREGORIAN
BEGIN:VEVENT
UID:cf458692-7c4f-11f0-80dc-0a58a9feac02
DTSTAMP:20250818T163748Z
SUMMARY:Kindergarten orientation
URL;VALUE=URI:https://www.albanyschools.org/schools/aic/calendar/8518838/ki
 ndergarten-orientation
DTSTART:20250904T140000Z
DTEND:20250904T150000Z
END:VEVENT
END:VCALENDAR
