BEGIN:VCALENDAR
VERSION:2.0
PRODID:SchoolNow
CALSCALE:GREGORIAN
BEGIN:VEVENT
UID:e809914a-8380-11f0-a765-0affee066179
DTSTAMP:20250827T200332Z
SUMMARY:Special Person Breakfast
URL;VALUE=URI:https://www.albanyschools.org/schools/aic/calendar/8551268/sp
 ecial-person-breakfast
DTSTART:20250925T124000Z
DTEND:20250925T134000Z
END:VEVENT
END:VCALENDAR
