BEGIN:VCALENDAR
VERSION:2.0
PRODID:SchoolNow
CALSCALE:GREGORIAN
BEGIN:VEVENT
UID:0b5cafec-8381-11f0-9f63-0a58a9feac02
DTSTAMP:20250827T200431Z
SUMMARY:PTA meeting
LOCATION:library
URL;VALUE=URI:https://www.albanyschools.org/schools/aic/calendar/8551270/pt
 a-meeting
DTSTART:20250925T220000Z
DTEND:20250925T230000Z
END:VEVENT
END:VCALENDAR
