BEGIN:VCALENDAR
VERSION:2.0
PRODID:SchoolNow
CALSCALE:GREGORIAN
BEGIN:VEVENT
UID:277fc6dc-8381-11f0-8fd7-0affc8c049ad
DTSTAMP:20250827T200518Z
SUMMARY:Open House\, grades 6-12
URL;VALUE=URI:https://www.albanyschools.org/schools/aic/calendar/8551271/op
 en-house-grades-6-12
DTSTART:20250930T220000Z
DTEND:20250930T230000Z
END:VEVENT
END:VCALENDAR
