BEGIN:VCALENDAR
VERSION:2.0
PRODID:SchoolNow
CALSCALE:GREGORIAN
BEGIN:VEVENT
UID:63922480-8d90-11f0-aa6b-0a58a9feac02
DTSTAMP:20250909T151933Z
SUMMARY:Hispanic Heritage Month Celebration
URL;VALUE=URI:https://www.albanyschools.org/schools/aic/calendar/8599497/hi
 spanic-heritage-month-celebration
DTSTART:20251017T220000Z
DTEND:20251017T230000Z
END:VEVENT
END:VCALENDAR
