BEGIN:VCALENDAR
VERSION:2.0
PRODID:SchoolNow
CALSCALE:GREGORIAN
BEGIN:VEVENT
UID:8a41ec3c-8d90-11f0-abd1-0a58a9feac02
DTSTAMP:20250909T152038Z
SUMMARY:Hispanic Heritage Parade
URL;VALUE=URI:https://www.albanyschools.org/schools/aic/calendar/8599500/hi
 spanic-heritage-parade
DTSTART:20250919T133000Z
DTEND:20250919T143000Z
END:VEVENT
END:VCALENDAR
