BEGIN:VCALENDAR
VERSION:2.0
PRODID:SchoolNow
CALSCALE:GREGORIAN
BEGIN:VEVENT
UID:43c515d8-8da2-11f0-8db8-0a58a9feac02
DTSTAMP:20251203T213909Z
SUMMARY:Winter Concert and Art Show
URL;VALUE=URI:https://www.albanyschools.org/schools/aic/calendar/8601699/wi
 nter-concert-and-art-show
DTSTART:20260106T230000Z
DTEND:20260107T000000Z
END:VEVENT
END:VCALENDAR
