BEGIN:VCALENDAR
VERSION:2.0
PRODID:SchoolNow
CALSCALE:GREGORIAN
BEGIN:VEVENT
UID:78509ffe-9af2-11f0-90f2-0a58a9feac02
DTSTAMP:20250926T160423Z
SUMMARY:School Picture Day
URL;VALUE=URI:https://www.albanyschools.org/schools/aic/calendar/8667230/sc
 hool-picture-day
DTSTART;VALUE=DATE:20251017
DTEND;VALUE=DATE:20251018
END:VEVENT
END:VCALENDAR
