BEGIN:VCALENDAR
VERSION:2.0
PRODID:SchoolNow
CALSCALE:GREGORIAN
BEGIN:VEVENT
UID:80d28ade-adb2-11f0-9339-0a58a9feac02
DTSTAMP:20251020T124422Z
SUMMARY:Parent-teacher conferences
URL;VALUE=URI:https://www.albanyschools.org/schools/aic/calendar/8736055/pa
 rent-teacher-conferences
DTSTART:20251023T203000Z
DTEND:20251023T233000Z
END:VEVENT
END:VCALENDAR
